BEGIN:VCALENDAR
VERSION:2.0
PRODID:-//Kom Braai//EN
CALSCALE:GREGORIAN
METHOD:PUBLISH
BEGIN:VEVENT
UID:587bd58a-7598-4533-b006-60ebba253ebd@kom-braai
DTSTAMP:20260419T151150Z
DTSTART:20260331T174200Z
DTEND:20260331T214200Z
SUMMARY:🔥 Gaby Test Braai
DESCRIPTION:Organised by Gabrielle Sporen (Sous Chef)\\n\\nDirections: https://www.google.com/maps?q=52.0205928\,5.1800893
LOCATION:Strydom House\, Zuiderspoor 12\, 3994 VP Houten\, Netherlands
END:VEVENT
END:VCALENDAR