BEGIN:VCALENDAR
VERSION:2.0
PRODID:-//Kom Braai//EN
CALSCALE:GREGORIAN
METHOD:PUBLISH
BEGIN:VEVENT
UID:5f4c7b9a-a118-48e1-945b-d02c009542f1@kom-braai
DTSTAMP:20260419T150542Z
DTSTART:20260228T162600Z
DTEND:20260228T202600Z
SUMMARY:🔥 Gabs Braai
DESCRIPTION:Organised by Gabrielle Sporen (Sous Chef)\\n\\nDirections: https://www.google.com/maps?q=52.0205928\,5.1800893
LOCATION:Strydom House\, Zuiderspoor 12\, 3994 VP Houten\, Netherlands
END:VEVENT
END:VCALENDAR