BEGIN:VCALENDAR
VERSION:2.0
PRODID:-//Kom Braai//EN
CALSCALE:GREGORIAN
METHOD:PUBLISH
BEGIN:VEVENT
UID:605b3246-2876-473f-82ff-98a6cc4e7205@kom-braai
DTSTAMP:20260419T151359Z
DTSTART;VALUE=DATE:20260228
DTEND;VALUE=DATE:20260301
SUMMARY:🔥 Lekker braai
DESCRIPTION:Net sommer\\n\\nOrganised by Riaan Louw (Vuurmeester)\\n\\nDirections: https://www.google.com/maps?q=51.8857419\,5.3083255
LOCATION:Riaan House\, Zoete Kroon 27\, 4191 DV Geldermalsen\, Netherlands
END:VEVENT
END:VCALENDAR