BEGIN:VCALENDAR
VERSION:2.0
PRODID:-//Kom Braai//EN
CALSCALE:GREGORIAN
METHOD:PUBLISH
BEGIN:VEVENT
UID:613cdcea-8833-4297-965b-531fcc2bd122@kom-braai
DTSTAMP:20260419T145425Z
DTSTART:20260329T140000Z
DTEND:20260329T180000Z
SUMMARY:🔥 Braai time
DESCRIPTION:Celebrating goodtimes\\n\\nOrganised by d.i.n.schimmel (Vuurmeester)\\n\\nDirections: https://www.google.com/maps?q=52.3542495\,4.8402776
LOCATION:David's place\, Kon. Wilhelminaplein 492\, 1062 Amsterdam\, Nederland
END:VEVENT
END:VCALENDAR