BEGIN:VCALENDAR
VERSION:2.0
PRODID:-//Kom Braai//EN
CALSCALE:GREGORIAN
METHOD:PUBLISH
BEGIN:VEVENT
UID:75d14b40-6036-4c24-848e-4f0874e84e9c@kom-braai
DTSTAMP:20260419T151632Z
DTSTART:20260307T224100Z
DTEND:20260308T024100Z
SUMMARY:🔥 Test mail braai
DESCRIPTION:Organised by Johan Strydom (Braai Boss)\\n\\nDirections: https://www.google.com/maps?q=25.354826\,51.183884
LOCATION:My house\, Qatar
END:VEVENT
END:VCALENDAR