BEGIN:VCALENDAR
VERSION:2.0
PRODID:-//Kom Braai//EN
CALSCALE:GREGORIAN
METHOD:PUBLISH
BEGIN:VEVENT
UID:7af259f6-590a-45d5-a1ce-e2a4b23dc643@kom-braai
DTSTAMP:20260419T145928Z
DTSTART;VALUE=DATE:20260306
DTEND;VALUE=DATE:20260307
SUMMARY:🔥 Poll vote
DESCRIPTION:Organised by Johan Strydom (Braai Boss)\\n\\nDirections: https://www.google.com/maps?q=26.2006043\,92.9375739
LOCATION:My house\, Assam\, India
END:VEVENT
END:VCALENDAR