BEGIN:VCALENDAR
VERSION:2.0
PRODID:-//Kom Braai//EN
CALSCALE:GREGORIAN
METHOD:PUBLISH
BEGIN:VEVENT
UID:81f94b58-2397-4e21-80a9-694cedc81627@kom-braai
DTSTAMP:20260419T150543Z
DTSTART:20260228T183000Z
DTEND:20260228T223000Z
SUMMARY:🔥 Saturday at Kaylei’s 
DESCRIPTION:Mama Mia party \\n\\nOrganised by Kaylei Nosella (Braai Boss)\\n\\nDirections: https://www.google.com/maps?q=51.752233\,-1.2090113
LOCATION:Kaylei’s house \, 7 Shelford Pl\, Headington\, Oxford OX3 7NW\, UK
END:VEVENT
END:VCALENDAR