BEGIN:VCALENDAR
VERSION:2.0
PRODID:-//Kom Braai//EN
CALSCALE:GREGORIAN
METHOD:PUBLISH
BEGIN:VEVENT
UID:9ba26c9a-7f7c-411e-9072-dce1dfdffe4d@kom-braai
DTSTAMP:20260419T150900Z
DTSTART:20260404T140000Z
DTEND:20260404T180000Z
SUMMARY:🔥 Strydom Braai
DESCRIPTION:Organised by Gabrielle Sporen (Sous Chef)\\n\\nDirections: https://www.google.com/maps?q=52.0205928\,5.1800893
LOCATION:Strydom House\, Zuiderspoor 12\, 3994 VP Houten\, Netherlands
END:VEVENT
END:VCALENDAR