BEGIN:VCALENDAR
VERSION:2.0
PRODID:-//Kom Braai//EN
CALSCALE:GREGORIAN
METHOD:PUBLISH
BEGIN:VEVENT
UID:bb7a5785-54de-4d84-b9dd-b3500a69f5d2@kom-braai
DTSTAMP:20260419T151517Z
DTSTART:20260307T120000Z
DTEND:20260307T160000Z
SUMMARY:🔥 Sunday Braai
DESCRIPTION:NIEL Birthday braai\\n\\nOrganised by Niel Jacobs (Vuurmeester)\\n\\nDirections: https://www.google.com/maps?q=51.9518509\,7.1832772
LOCATION:Jacobs House\, Osthellenweg 16\, 48653 Coesfeld\, Germany
END:VEVENT
END:VCALENDAR