BEGIN:VCALENDAR
VERSION:2.0
PRODID:-//Kom Braai//EN
CALSCALE:GREGORIAN
METHOD:PUBLISH
BEGIN:VEVENT
UID:bfc13fb5-3d8a-48a0-8fea-b47126cc0d76@kom-braai
DTSTAMP:20260419T151807Z
DTSTART:20260312T000000Z
DTEND:20260312T040000Z
SUMMARY:🔥 My first Braai!
DESCRIPTION:Organised by barhantas.game (Vuurmeester)\\n\\nDirections: https://www.google.com/maps?q=52.0811961\,4.2886531
LOCATION:Joes placeee\, Waldeck Pyrmontkade\, Den Haag\, Netherlands
END:VEVENT
END:VCALENDAR