BEGIN:VCALENDAR
VERSION:2.0
PRODID:-//Kom Braai//EN
CALSCALE:GREGORIAN
METHOD:PUBLISH
BEGIN:VEVENT
UID:d55f36cb-200b-4165-b699-a120af50adef@kom-braai
DTSTAMP:20260419T144728Z
DTSTART:20260321T185900Z
DTEND:20260321T225900Z
SUMMARY:🔥 Spring Braai
DESCRIPTION:Organised by dpepeka (Vuurmeester)\\n\\nDirections: https://www.google.com/maps?q=52.0118979\,4.5902922
LOCATION:Noot\, Stokroos 52\, 2761 EX Zevenhuizen\, Netherlands
END:VEVENT
END:VCALENDAR