BEGIN:VCALENDAR
VERSION:2.0
PRODID:-//Kom Braai//EN
CALSCALE:GREGORIAN
METHOD:PUBLISH
BEGIN:VEVENT
UID:e2a88cb3-7cd5-452d-89e7-46406caea22b@kom-braai
DTSTAMP:20260419T144855Z
DTSTART:20260225T171200Z
DTEND:20260225T211200Z
SUMMARY:🔥 Test
DESCRIPTION:Yeyw\\n\\nOrganised by joe.zuid.nl (Vuurmeester)\\n\\nDirections: https://www.google.com/maps?q=52.0205928\,5.1800893
LOCATION:Tetst\, Zuiderspoor 12\, 3994 VP Houten\, Netherlands
END:VEVENT
END:VCALENDAR