BEGIN:VCALENDAR
VERSION:2.0
PRODID:-//Kom Braai//EN
CALSCALE:GREGORIAN
METHOD:PUBLISH
BEGIN:VEVENT
UID:e42776f0-7a40-42b4-857b-bcb7137c03a0@kom-braai
DTSTAMP:20260419T144557Z
DTSTART:20260320T140000Z
DTEND:20260320T180000Z
SUMMARY:🔥 Lente kuier
DESCRIPTION:Organised by Johan Strydom (Braai Boss)\\n\\nDirections: https://www.google.com/maps?q=-25.8313437\,28.1598717
LOCATION:By die ouers se huis\, 118 Golf Ave\, Clubview\, Centurion\, 0014\, South Africa
END:VEVENT
END:VCALENDAR