BEGIN:VCALENDAR
VERSION:2.0
PRODID:-//Kom Braai//EN
CALSCALE:GREGORIAN
METHOD:PUBLISH
BEGIN:VEVENT
UID:f1aa9e74-30d4-4306-bafd-9b1361767767@kom-braai
DTSTAMP:20260419T150926Z
DTSTART:20260301T231300Z
DTEND:20260302T031300Z
SUMMARY:🔥 Can we like to braai at Jeans
DESCRIPTION:Partijkie\\n\\nOrganised by Jean Dohse (Vuurmeester)\\n\\nDirections: https://www.google.com/maps?q=52.0930374\,5.0129433
LOCATION:The park\, Middenburcht 14\, 3452 MT Utrecht\, Netherlands
END:VEVENT
END:VCALENDAR