BEGIN:VCALENDAR
VERSION:2.0
PRODID:-//Kom Braai//EN
CALSCALE:GREGORIAN
METHOD:PUBLISH
BEGIN:VEVENT
UID:fdc08d1d-6f19-473b-9e9b-184ddf66586a@kom-braai
DTSTAMP:20260419T151812Z
DTSTART:20260228T062100Z
DTEND:20260228T102100Z
SUMMARY:🔥 Fok weet
DESCRIPTION:Organised by Johan Strydom (Braai Boss)\\n\\nDirections: https://www.google.com/maps?q=52.0205928\,5.1800893
LOCATION:My huis\, Zuiderspoor 12\, 3994 VP Houten\, Netherlands
END:VEVENT
END:VCALENDAR